BEGIN:VCALENDAR
VERSION:2.0
PRODID:-//ChamberMaster//Event Calendar 2.0//EN
METHOD:PUBLISH
X-PUBLISHED-TTL:P3D
REFRESH-INTERVAL:P3D
CALSCALE:GREGORIAN
BEGIN:VEVENT
DTSTART:20251017T030000Z
DTEND:20251017T043000Z
X-MICROSOFT-CDO-ALLDAYEVENT:FALSE
SUMMARY:No MSG Added
DESCRIPTION:On the Cripe Stage  \n\nOn tonight's live taping of The Not So Late Show with No MSG\, we have another fantastic show filled with special guests\, music\, laughter\, and if you're lucky\, treats (and maybe some tricks) just in time for this Halloween Season!\n\nPlease note: This show contains adult language.
X-ALT-DESC;FMTTYPE=text/html:<p style="text-align:start"><em>On the Cripe Stage&hellip\;&nbsp\;</em></p>\n\n<p style="text-align:start">On tonight&rsquo\;s live taping of The Not So Late Show with No MSG\, we have another fantastic show filled with special guests\, music\, laughter\, and if you&rsquo\;re lucky\, treats (and maybe some tricks) just in time for this Halloween Season!</p>\n\n<p style="text-align:start"><em>Please note: This show contains adult language.</em></p>\n
LOCATION:Bette Aitken theater arts Center
UID:e.2108.5832
SEQUENCE:3
DTSTAMP:20260421T054528Z
URL:http://anaheimchamber.chambermaster.com/events/details/no-msg-added-5832
END:VEVENT

END:VCALENDAR
